BEGIN:VCALENDAR
VERSION:2.0
PRODID:-//Bureau County Farm Bureau - ECPv6.15.20//NONSGML v1.0//EN
CALSCALE:GREGORIAN
METHOD:PUBLISH
X-WR-CALNAME:Bureau County Farm Bureau
X-ORIGINAL-URL:https://bureaucountyfarmbureau.org
X-WR-CALDESC:Events for Bureau County Farm Bureau
REFRESH-INTERVAL;VALUE=DURATION:PT1H
X-Robots-Tag:noindex
X-PUBLISHED-TTL:PT1H
BEGIN:VTIMEZONE
TZID:UTC
BEGIN:STANDARD
TZOFFSETFROM:+0000
TZOFFSETTO:+0000
TZNAME:UTC
DTSTART:20220101T000000
END:STANDARD
END:VTIMEZONE
BEGIN:VEVENT
DTSTART;TZID=UTC:20260129T180000
DTEND;TZID=UTC:20260129T200000
DTSTAMP:20260423T214054
CREATED:20251229T184929Z
LAST-MODIFIED:20251229T184929Z
UID:30675-1769709600-1769716800@bureaucountyfarmbureau.org
SUMMARY:Strong Enough to Bend Evening
DESCRIPTION:Join us for a fun and informative night just for ladies that live and work in agriculture! There will be coffee\, dessert and good ole’ girl power!\n\n\nWomen in agriculture are tough. We carry families\, farms and futures on our backs\, and we still manage to still show up to town looking half way descent ( well\, some days). But real strength isn’t about breaking; it’s about being brave enough to bend before you snap. Adrienne’s message is a celebration of the women who hold it all together- even when they are running on caffeine and sure will power- and a reminder that vulnerability isn’t weakness\, it’s leadership. Together we will laugh\, exhale\, and find tools to care for ourselves and the people we love. You’ll leave feeling grounded\, hopeful\, and remembering that strong women don’t do it all- we do what matters… with grit\, grace\, and a whole lot of girl power.\n\n\nLadies – mark your calendars!\n\n\nJoin us January 29th for this inspirational program featuring ag mental health specialist Adrienne DeSutter!\n\n\n\nBlack Hawk College East Campus\nThursday\, January 29\, 2026 at 6:00pm\nCoffee\, dessert\, inspiration and a great message!\nFREE to attend – RSVP by Jan 23rd- Call 815-875-6468.
URL:https://bureaucountyfarmbureau.org/event/strong-enough-to-bend-evening/
LOCATION:Black Hawk East College\, 26230 Black Hawk Road\, Galva\, IL\, 61434\, United States
END:VEVENT
BEGIN:VEVENT
DTSTART;TZID=UTC:20260119T180000
DTEND;TZID=UTC:20260119T190000
DTSTAMP:20260423T214054
CREATED:20251229T183529Z
LAST-MODIFIED:20251229T183529Z
UID:30673-1768845600-1768849200@bureaucountyfarmbureau.org
SUMMARY:Bureau County Farm Bureau Annual Meeting
DESCRIPTION:TO: MEMBERS OF THE BUREAU COUNTY FARM BUREAU \nNotice is hereby given by order of the Board of Directors that the 111th Annual Meeting of Members of the Farm Bureau will be held at the Bureau County Farm Bureau\, 1407 North Main Street\, Princeton\, Illinois on Monday\, the 19th of January 2026 at 6:00 p.m. The Annual Meeting is held for the purpose of: \nConsidering and acting upon requests of the Officers and Board of Directors for the preceding year. \nElecting directors from each district and two at-large director seats. \nTransacting such other business as may properly come before this meeting. \nFollowing the regular business meeting\, refreshments will be available. The annual meeting is free to attend but advanced registration is required through the Farm Bureau office. Proxy forms will be mailed to all voting members as well if you are not interested in attending the event. For more information or to register to attend\, contact the Bureau County Farm Bureau at (815) 875-6468. \nSincerely\, \nBrian Sanden\, Secretary \n 
URL:https://bureaucountyfarmbureau.org/event/bureau-county-farm-bureau-annual-meeting-2/
LOCATION:Bureau County Farm Bureau Office\, 1407 N. Main St.\, Princeton\, IL\, 61356\, United States
ORGANIZER;CN="Bureau County Farm Bureau":MAILTO:jfrueh@bureaucountyfarmbureau.org
END:VEVENT
BEGIN:VEVENT
DTSTART;TZID=UTC:20260115T173000
DTEND;TZID=UTC:20260115T190000
DTSTAMP:20260423T214054
CREATED:20251229T183258Z
LAST-MODIFIED:20251229T183258Z
UID:30668-1768498200-1768503600@bureaucountyfarmbureau.org
SUMMARY:Weathering the Storm Program
DESCRIPTION:Ag Safety Night.pdf \nSevere Weather Preparedness \nSevere weather can strike fast\, but you can be ready! Join us for a FREE Weather Preparedness Seminar hosted by Bureau Valley FFA and Bureau County Farm Bureau. The meal will be provided by COUNTRY Financial- Tyler Hansen. \nLearn vital skills to protect your family and property from the upcoming storm season. \nWhat You’ll Learn: \n\nPreparing for action\nUnderstanding alerts\nCrafting a plan\nDuring the storm\nAND MORE\n\nEvent Details: \n\nDate: Thursday\, January 15\, 2026\nTime: 5:30 PM\nLocation: Ag View FS- Walnut\n\nFeaturing: \n\nCyle Dickens\, KWQC Meteorologist\nAdam Lind\, Bureau County Emergency Management Agency (EMA) Director\n\nRSVP Today! Space may be limited. Register by calling the Bureau County Farm Bureau at (815) 875-6468. \n  \nLet’s all learn more so we can weather the storm!
URL:https://bureaucountyfarmbureau.org/event/weathering-the-storm-program/
LOCATION:Ag View FS- Walnut\, 15094 IL-92\, Walnut\, IL\, 61376\, United States
ORGANIZER;CN="Bureau County Farm Bureau":MAILTO:jfrueh@bureaucountyfarmbureau.org
END:VEVENT
BEGIN:VEVENT
DTSTART;TZID=UTC:20250627T100000
DTEND;TZID=UTC:20250627T110000
DTSTAMP:20260423T214054
CREATED:20250516T190531Z
LAST-MODIFIED:20250516T190531Z
UID:26807-1751018400-1751022000@bureaucountyfarmbureau.org
SUMMARY:Australia / New Zealand Trip Informational Meeting
DESCRIPTION:The Bureau County Farm Bureau is pleased to announce plans for our upcoming exciting trip down. Experience the countries down under like nothing you have ever done before! Hold a Koala Bear\, enjoy a home stay with a farm family\, float through the world-renowned Waitomo Glow Worm Caves\, submerge yourself in the Great Barrier Reef and cruise the spectacular Milord Sound. Join us when we explore this incredible land by train\, gondola\, boat\, bus and air. The adventure runs February 23 – March 12\, 2026. \n  \nFor those interested in learning about the trip\, Farm Bureau will be hosting an informational meeting on Friday\, June 27th at 10:00 a.m. at the Bureau County Farm Bureau in Princeton. \n  \nDuring the meeting we will describe some of the wonderful sights you will see on this trip and answer any questions you might have. This is an informational meeting and those attending are not in any way obligated to sign up for the trip. \n  \nIf you have any questions prior to the information meeting or are unable to attend but want to make sure your name is added to the reservation list\, stop by or contact the Bureau County Farm Bureau office at 815-875-6468. \n 
URL:https://bureaucountyfarmbureau.org/event/australia-new-zealand-trip-informational-meeting/
LOCATION:Bureau County Farm Bureau Office\, 1407 N. Main St.\, Princeton\, IL\, 61356\, United States
END:VEVENT
BEGIN:VEVENT
DTSTART;TZID=UTC:20250619T080000
DTEND;TZID=UTC:20250619T160000
DTSTAMP:20260423T214054
CREATED:20250325T175924Z
LAST-MODIFIED:20250325T175924Z
UID:25777-1750320000-1750348800@bureaucountyfarmbureau.org
SUMMARY:Golf Outing
DESCRIPTION:Golf Outing Bureau and Lee County Farm Bureaus will be hosting their 16th Annual Golf Outing for supporters of Ag in the Classroom. The outing will be held on Thursday\, June 19th at Shady Oaks Country Club in Sublette. The Tournament will be a shot-gun start\, 4- person scramble. Tee-time is 9 a.m. and lunch (will be served for all teams during the event. Proceeds from the tournament will benefit the Bureau and Lee County Ag in the Classroom programs. \nToday’s youth are two and three generations removed from the farm. That’s why we feel it is so important to bring agriculture awareness to local students. Supporting the Ag in the Classroom program helps us provide free agriculture materials\, presentations and resources to local teachers and classrooms in Bureau and Lee Counties. So\, whether you consider yourself “good on the green” or just want to have a fun day out\, this is the tournament for you! \nPolish up your clubs and support a good cause. Team fees are $250 for Basic Registration\, $275 for Super Registration and $300 for Premium Registration. Registration includes 18-holes of golf\, ½ cart and lunch. If you are not a golfer\, but would like to support this event\, several sponsorship packages are also available. Registration is suggested by June 1. \nRegistration after the deadline will be accepted if space is available. Tee time starts at 9:00 a.m. For more information\, contact the Bureau County Farm Bureau\, (815) 875-6468. We hope to see you there! \nD24 Bureau-Lee_AITC_Golf Outing_Print \nRegistration Online
URL:https://bureaucountyfarmbureau.org/event/golf-outing/
LOCATION:Shady Oaks Country Club\, United States
END:VEVENT
BEGIN:VEVENT
DTSTART;TZID=UTC:20250607T080000
DTEND;TZID=UTC:20250607T160000
DTSTAMP:20260423T214054
CREATED:20250325T175534Z
LAST-MODIFIED:20250325T175534Z
UID:25775-1749283200-1749312000@bureaucountyfarmbureau.org
SUMMARY:Tractor Trek
DESCRIPTION:Farm Bureau Foundation to Sponsor a Tractor Trek to support Ag in the Classroom \n Save the Date!!!  The Bureau County Farm Bureau Foundation is putting the final touches on plans for our 13th annual Tractor Trek.  The Tractor Trek will be held on Saturday\, June 7th\, rain\, or shine!  This year the event will be leaving from the Bureau County Fair Grounds in Princeton\, for a ride through a portion of Bureau County. \nParticipants will have the opportunity to share the exciting event with other antique tractor enthusiasts as they travel through a portion of Bureau County.  Pre-registration is required by completing a registration form by May 30th.  There is a registration fee of $50. \nRefreshments\, lunch\, and a fun-filled experience will be provided. The deadline to register is soon\, space is limited.  If you would like more information\, you may contact the Bureau County Farm Bureau at (815) 875-6468.  All proceeds will benefit the Bureau County Farm Bureau Foundation\, Ag in the Classroom Program. \nD25 Bureau_Farm_CFB_Tractor_Trek_FLYER_PRINT \nRegistration form Final-3.25 \nOnline Registration Link
URL:https://bureaucountyfarmbureau.org/event/tractor-trek-2/
LOCATION:Bureau County Fairgrounds\, 811 W. Peru St.\, Princeton\, IL\, 61356\, United States
END:VEVENT
BEGIN:VEVENT
DTSTART;TZID=UTC:20250601T090000
DTEND;TZID=UTC:20250601T170000
DTSTAMP:20260423T214054
CREATED:20250516T183837Z
LAST-MODIFIED:20250516T183837Z
UID:26795-1748768400-1748797200@bureaucountyfarmbureau.org
SUMMARY:Large Animal Rescue Operations Course
DESCRIPTION:Join the Bureau & Putnam EMAs and the Bureau & Marshall-Putnam Farm Bureaus on Sunday\, June 1st at 9:00 a.m. at the Bureau County Fair Grounds in Princeton for an 8-hour rescue course targeted at first responders in the area. \nThis class is being designed to bring operations level information to Illinois emergency first responders in the area of large animal rescue. Responders include but are not limited to members for fire\, police\, EMS\, sheriff departments\, DNR and Forest Preserve Officers. \nLarge animals will include but are not limited to horses\, cows\, pigs\, sheep\, lamas and alpacas; however\, the horse and cow will be used as the teaching model. \nThe course will cover the following subjects: classroom review of L.A.R.A. information\, Animal haltering drills\, and basic rescue drag drills\, rescue glide drills\, trailer safety inspections\, simple vertical lifts drills\, and more. \n 
URL:https://bureaucountyfarmbureau.org/event/large-animal-rescue-operations-course/
LOCATION:IL
END:VEVENT
BEGIN:VEVENT
DTSTART;TZID=UTC:20250526T080000
DTEND;TZID=UTC:20250526T170000
DTSTAMP:20260423T214054
CREATED:20250516T183357Z
LAST-MODIFIED:20250516T183357Z
UID:26792-1748246400-1748278800@bureaucountyfarmbureau.org
SUMMARY:Memorial Day
DESCRIPTION:Our office will be closed in observance of Memorial Day. \nHonoring the memory of our fallen heroes and thanking all those who have served our nation. May their sacrifice be remembered\, and their legacy live on. Wishing you a meaningful Memorial Day weekend.
URL:https://bureaucountyfarmbureau.org/event/memorial-day/
LOCATION:IL
END:VEVENT
BEGIN:VEVENT
DTSTART;TZID=UTC:20250520T183000
DTEND;TZID=UTC:20250520T200000
DTSTAMP:20260423T214054
CREATED:20250410T155208Z
LAST-MODIFIED:20250410T155208Z
UID:26095-1747765800-1747771200@bureaucountyfarmbureau.org
SUMMARY:Sourdough and Herb Class
DESCRIPTION:Join us for a Sourdough and herb class on Tuesday\, May 20th at the Bureau County Farm Bureau in Princeton. \nThe sourdough bread presentation will be given by Molly from Sun Oak Farm. The herb presentation will be give by Bettyann Harrison\, U of I Master Gardner Coordinator.  \nLearn from the pros and go home with your own sourdough starter and a potted herb! \nRegistration is $20 and class space is limited so call today at (815) 875-6468.
URL:https://bureaucountyfarmbureau.org/event/sourdough-and-herb-class/
LOCATION:IL
END:VEVENT
BEGIN:VEVENT
DTSTART;TZID=UTC:20250406T083000
DTEND;TZID=UTC:20250406T153000
DTSTAMP:20260423T214055
CREATED:20250317T184830Z
LAST-MODIFIED:20250320T193211Z
UID:25581-1743928200-1743953400@bureaucountyfarmbureau.org
SUMMARY:Beyond the Banners Livestock Clinic
DESCRIPTION:Beyond the Banner Youth Clinic \nJoin Bureau County Farm Bureau\, Bureau County 4-H\, and Marshall-Putnam 4-H for a free educational event for all youth! This clinic will include everything from feeding advice to daily grooming routines and show preparation to showmanship techniques. All Animals will be provided. No personal livestock will be needed. \nMembers do not have to stay all day. They can choose from the morning or afternoon\, or both! \nThis event will take place on Saturday\, April 5 at 9 a.m. at the Marshall-Putnam Fairgrounds in Henry\, IL. Register to Bureau County Farm Bureau through the Google form by March 28 at https://forms.gle/yK5MM8SCJ2VMinF56 \nAgenda: \n8:30-9:00         Registration \n9:00-10:30      Breakout sessions: Beef\, Swine\, Sheep \n10:30-12:00    Large Animal Selection\, Nutrition & Animal First Aid \n12:00-12:45    Lunch and Master Showmanship Explanation \n12:45-1:45      Annual Required YQCA Training if you are showing livestock \n2:00-3:30         Breakout Sessions: Goats\, Rabbits\, Poultry \nFor more information call the Bureau County Farm Bureau Office at 815-875-6468. \n 
URL:https://bureaucountyfarmbureau.org/event/beyond-the-banners-livestock-clinic/
LOCATION:IL
END:VEVENT
BEGIN:VEVENT
DTSTART;TZID=UTC:20250328T080000
DTEND;TZID=UTC:20250328T163000
DTSTAMP:20260423T214055
CREATED:20250325T181344Z
LAST-MODIFIED:20250325T181344Z
UID:25781-1743148800-1743179400@bureaucountyfarmbureau.org
SUMMARY:Women in Ag Conference
DESCRIPTION:Brooke Clay Taylor\, Rural Gone Urban\, to Headline Women in Agriculture Conference \nThe Women in Agriculture Conference committee is excited for the 2025\, Women in Agriculture Conference. Brooke Clay Taylor\, Rural Gone Urban\, will headline for the annual Women in Agriculture Conference in Rock Island on Friday\, March 28\, 2025. Join Brooke Clay Taylor\, founder of Rural Gone Urban and the Rural Gone Urban Foundation\, and discover the raw truth behind her remarkable career in strategic communications and entrepreneurship in the agricultural industry\, intertwined with the personal struggles of battling cancer and raising a family. \nOur Mid-Day Panel consists of Kathrin Grady of John Deere\, Laura Fidler of Fairview Sale Barn\, and Allison Schwingle of Marquis Energy and their take on how to cultivate a “Work/Life Balance”. \nWith a variety of breakouts from Wind\, Solar\, Livestock and Legislation\, to Farm Family Resources and much more in between – there is something to spark everyone’s interest! \nTHIS EVENT IS SOLD OUT!! \nThis Conference is sponsored by the Farm Bureau Women in Agriculture Conference Committee. \n 
URL:https://bureaucountyfarmbureau.org/event/women-in-ag-conference-2/
LOCATION:Ballys Rock Island\, 777 Bally Blvd\, Rock Island\, Illinois\, 61201
END:VEVENT
BEGIN:VEVENT
DTSTART;TZID=UTC:20231225T080000
DTEND;TZID=UTC:20231229T170000
DTSTAMP:20260423T214055
CREATED:20230131T193504Z
LAST-MODIFIED:20230131T193504Z
UID:15101-1703491200-1703869200@bureaucountyfarmbureau.org
SUMMARY:Office Closed
DESCRIPTION:Merry Christmas
URL:https://bureaucountyfarmbureau.org/event/office-closed-22/
LOCATION:IL
END:VEVENT
BEGIN:VEVENT
DTSTART;TZID=UTC:20231211T190000
DTEND;TZID=UTC:20231211T210000
DTSTAMP:20260423T214055
CREATED:20230131T193434Z
LAST-MODIFIED:20230131T193434Z
UID:15099-1702321200-1702328400@bureaucountyfarmbureau.org
SUMMARY:BCFB Board Meeting
DESCRIPTION:
URL:https://bureaucountyfarmbureau.org/event/bcfb-board-meeting-10/
LOCATION:IL
END:VEVENT
BEGIN:VEVENT
DTSTART;TZID=UTC:20231202T080000
DTEND;TZID=UTC:20231205T170000
DTSTAMP:20260423T214055
CREATED:20230131T193403Z
LAST-MODIFIED:20230131T193403Z
UID:15097-1701504000-1701795600@bureaucountyfarmbureau.org
SUMMARY:IAA Annual Meeting
DESCRIPTION:
URL:https://bureaucountyfarmbureau.org/event/iaa-annual-meeting-3/
LOCATION:IL
END:VEVENT
BEGIN:VEVENT
DTSTART;TZID=UTC:20231123T080000
DTEND;TZID=UTC:20231124T170000
DTSTAMP:20260423T214055
CREATED:20230131T193335Z
LAST-MODIFIED:20230131T193335Z
UID:15095-1700726400-1700845200@bureaucountyfarmbureau.org
SUMMARY:Office Closed
DESCRIPTION:Happy Thanksgiving
URL:https://bureaucountyfarmbureau.org/event/office-closed-21/
LOCATION:IL
END:VEVENT
BEGIN:VEVENT
DTSTART;TZID=UTC:20231113T190000
DTEND;TZID=UTC:20231113T210000
DTSTAMP:20260423T214055
CREATED:20230131T193301Z
LAST-MODIFIED:20230131T193301Z
UID:15093-1699902000-1699909200@bureaucountyfarmbureau.org
SUMMARY:BCFB Board Meeting
DESCRIPTION:
URL:https://bureaucountyfarmbureau.org/event/bcfb-board-meeting-9/
LOCATION:IL
END:VEVENT
BEGIN:VEVENT
DTSTART;TZID=UTC:20231110T080000
DTEND;TZID=UTC:20231110T170000
DTSTAMP:20260423T214055
CREATED:20230131T193229Z
LAST-MODIFIED:20230131T193229Z
UID:15091-1699603200-1699635600@bureaucountyfarmbureau.org
SUMMARY:Office Closed
DESCRIPTION:Veterans Day
URL:https://bureaucountyfarmbureau.org/event/office-closed-20/
LOCATION:IL
END:VEVENT
BEGIN:VEVENT
DTSTART;TZID=UTC:20231107T080000
DTEND;TZID=UTC:20231107T170000
DTSTAMP:20260423T214055
CREATED:20230131T193204Z
LAST-MODIFIED:20230131T193204Z
UID:15089-1699344000-1699376400@bureaucountyfarmbureau.org
SUMMARY:Election Day
DESCRIPTION:
URL:https://bureaucountyfarmbureau.org/event/election-day/
LOCATION:IL
END:VEVENT
BEGIN:VEVENT
DTSTART;TZID=UTC:20231009T080000
DTEND;TZID=UTC:20231009T170000
DTSTAMP:20260423T214055
CREATED:20230131T193137Z
LAST-MODIFIED:20230131T193137Z
UID:15087-1696838400-1696870800@bureaucountyfarmbureau.org
SUMMARY:Office Closed
DESCRIPTION:Columbus Day
URL:https://bureaucountyfarmbureau.org/event/office-closed-19/
LOCATION:IL
END:VEVENT
BEGIN:VEVENT
DTSTART;TZID=UTC:20230912T080000
DTEND;TZID=UTC:20230914T170000
DTSTAMP:20260423T214055
CREATED:20230131T193105Z
LAST-MODIFIED:20230131T193105Z
UID:15085-1694505600-1694710800@bureaucountyfarmbureau.org
SUMMARY:IFB Leaders to Washington
DESCRIPTION:
URL:https://bureaucountyfarmbureau.org/event/ifb-leaders-to-washington-3/
LOCATION:IL
END:VEVENT
BEGIN:VEVENT
DTSTART;TZID=UTC:20230911T190000
DTEND;TZID=UTC:20230911T210000
DTSTAMP:20260423T214055
CREATED:20230131T193029Z
LAST-MODIFIED:20230131T193029Z
UID:15083-1694458800-1694466000@bureaucountyfarmbureau.org
SUMMARY:BCFB Board Meeting
DESCRIPTION:
URL:https://bureaucountyfarmbureau.org/event/bcfb-board-meeting-8/
LOCATION:IL
END:VEVENT
BEGIN:VEVENT
DTSTART;TZID=UTC:20230908T080000
DTEND;TZID=UTC:20230910T170000
DTSTAMP:20260423T214055
CREATED:20230131T193000Z
LAST-MODIFIED:20230131T193000Z
UID:15081-1694160000-1694365200@bureaucountyfarmbureau.org
SUMMARY:Homestead Festival
DESCRIPTION:
URL:https://bureaucountyfarmbureau.org/event/homestead-festival-2/
LOCATION:IL
END:VEVENT
BEGIN:VEVENT
DTSTART;TZID=UTC:20230904T080000
DTEND;TZID=UTC:20230904T170000
DTSTAMP:20260423T214055
CREATED:20230131T192930Z
LAST-MODIFIED:20230131T192930Z
UID:15079-1693814400-1693846800@bureaucountyfarmbureau.org
SUMMARY:Office Closed
DESCRIPTION:Labor Day
URL:https://bureaucountyfarmbureau.org/event/office-closed-18/
LOCATION:IL
END:VEVENT
BEGIN:VEVENT
DTSTART;TZID=UTC:20230823T080000
DTEND;TZID=UTC:20230827T170000
DTSTAMP:20260423T214055
CREATED:20230131T192841Z
LAST-MODIFIED:20230131T192841Z
UID:15077-1692777600-1693155600@bureaucountyfarmbureau.org
SUMMARY:Bureau County Fair
DESCRIPTION:
URL:https://bureaucountyfarmbureau.org/event/bureau-county-fair-3/
LOCATION:IL
END:VEVENT
BEGIN:VEVENT
DTSTART;TZID=UTC:20230818T060000
DTEND;TZID=UTC:20230818T090000
DTSTAMP:20260423T214055
CREATED:20230131T192807Z
LAST-MODIFIED:20230131T192807Z
UID:15075-1692338400-1692349200@bureaucountyfarmbureau.org
SUMMARY:Health Screening/Blood Draws
DESCRIPTION:
URL:https://bureaucountyfarmbureau.org/event/health-screening-blood-draws/
LOCATION:IL
END:VEVENT
BEGIN:VEVENT
DTSTART;TZID=UTC:20230814T190000
DTEND;TZID=UTC:20230814T210000
DTSTAMP:20260423T214055
CREATED:20230131T192718Z
LAST-MODIFIED:20230131T192718Z
UID:15073-1692039600-1692046800@bureaucountyfarmbureau.org
SUMMARY:BCFB Board Meeting
DESCRIPTION:
URL:https://bureaucountyfarmbureau.org/event/bcfb-board-meeting-7/
LOCATION:IL
END:VEVENT
BEGIN:VEVENT
DTSTART;TZID=UTC:20230810T080000
DTEND;TZID=UTC:20230820T170000
DTSTAMP:20260423T214055
CREATED:20230131T192648Z
LAST-MODIFIED:20230131T192648Z
UID:15071-1691654400-1692550800@bureaucountyfarmbureau.org
SUMMARY:Illinois State Fair
DESCRIPTION:
URL:https://bureaucountyfarmbureau.org/event/illinois-state-fair-2/
LOCATION:IL
END:VEVENT
BEGIN:VEVENT
DTSTART;TZID=UTC:20230714T193000
DTEND;TZID=UTC:20230714T193000
DTSTAMP:20260423T214055
CREATED:20230405T202639Z
LAST-MODIFIED:20230405T210520Z
UID:16148-1689363000-1689363000@bureaucountyfarmbureau.org
SUMMARY:Bureau County Master Showmanship
DESCRIPTION:  \n \nThe Bureau County Farm Bureau and U of I Extension will host the Bureau County Master Showmanship Contest Friday\, July 14\, beginning at 7:30 p.m. (or approximately ½ hour after the end of the swine show) in the Swine/Sheep Livestock Barn at the Bureau County Fair Grounds. \nThe Master Showmanship Contest recognizes 4-H youth who have excelled at showing animals at the 4-H fair. The participants will be judged on their handling of each of three species of animals: beef\, sheep and swine. They also are quizzed by the judge on their knowledge of animal husbandry and livestock production. \nThe registration deadline for 4-H Participants is Friday\, June 16th.  This can be done online or through the provided word document at the Extension Office. \nA winner from each species will receive recognition and top prizes will be given to the top two overall showmen.  The top overall winner will be eligible to represent Bureau County at the Illinois Master Showmanship contest at the Illinois State Fair to be held on Friday\, August 11. \nRules for the contest are found here: Master Showmanship letter-23 \nIn order to register you must fill out the jotform on-line at https://form.jotform.com/bcfb006/2023-master-showmanship-entry-form
URL:https://bureaucountyfarmbureau.org/event/bureau-county-master-showmanship/
LOCATION:IL
END:VEVENT
BEGIN:VEVENT
DTSTART;TZID=UTC:20230713T080000
DTEND;TZID=UTC:20230715T170000
DTSTAMP:20260423T214055
CREATED:20230131T192532Z
LAST-MODIFIED:20230131T192532Z
UID:15067-1689235200-1689440400@bureaucountyfarmbureau.org
SUMMARY:County 4-H Fair
DESCRIPTION:
URL:https://bureaucountyfarmbureau.org/event/county-4-h-fair/
LOCATION:IL
END:VEVENT
BEGIN:VEVENT
DTSTART;TZID=UTC:20230711T080000
DTEND;TZID=UTC:20230713T170000
DTSTAMP:20260423T214055
CREATED:20230131T192505Z
LAST-MODIFIED:20230131T192505Z
UID:15065-1689062400-1689267600@bureaucountyfarmbureau.org
SUMMARY:IFB Leaders to Washington
DESCRIPTION:
URL:https://bureaucountyfarmbureau.org/event/ifb-leaders-to-washington-2/
LOCATION:IL
END:VEVENT
END:VCALENDAR